BEGIN:VCALENDAR
VERSION:2.0
PRODID:-//Gemeente Berkelland - ECPv5.16.4.1//NONSGML v1.0//EN
CALSCALE:GREGORIAN
METHOD:PUBLISH
X-WR-CALNAME:Gemeente Berkelland
X-ORIGINAL-URL:https://www.gemeenteberkelland.nl
X-WR-CALDESC:Evenementen voor Gemeente Berkelland
BEGIN:VTIMEZONE
TZID:Europe/Amsterdam
BEGIN:DAYLIGHT
TZOFFSETFROM:+0100
TZOFFSETTO:+0200
TZNAME:CEST
DTSTART:20250330T010000
END:DAYLIGHT
BEGIN:STANDARD
TZOFFSETFROM:+0200
TZOFFSETTO:+0100
TZNAME:CET
DTSTART:20251026T010000
END:STANDARD
END:VTIMEZONE
BEGIN:VEVENT
DTSTART;TZID=Europe/Amsterdam:20250616T180000
DTEND;TZID=Europe/Amsterdam:20250620T213000
DTSTAMP:20260422T043025
CREATED:20250401T090512Z
LAST-MODIFIED:20250401T090512Z
UID:10456-1750096800-1750455000@www.gemeenteberkelland.nl
SUMMARY:Avond4daagse Ruurlo
DESCRIPTION:Op 16 juni 2025 vindt de start van de Avond4daagse Ruurlo plaats. De Avond4daagse start aan de Dorpsstraat 15 in Ruurlo.
URL:https://www.gemeenteberkelland.nl/evenement/avond4daagse-ruurlo/
CATEGORIES:Ruurlo
END:VEVENT
END:VCALENDAR